Package: csaw Version: 1.36.1 Command: /Library/Frameworks/R.framework/Resources/bin/R CMD check --install=check:csaw.install-out.txt --library=/Library/Frameworks/R.framework/Resources/library --no-vignettes --timings csaw_1.36.1.tar.gz StartedAt: 2024-04-16 01:23:56 -0400 (Tue, 16 Apr 2024) EndedAt: 2024-04-16 01:40:31 -0400 (Tue, 16 Apr 2024) EllapsedTime: 995.3 seconds RetCode: 0 Status: WARNINGS CheckDir: csaw.Rcheck Warnings: 2