Package: csdR Version: 1.8.0 Maintainer: Jakob Peder Pettersen MaintainerEmail: jakobpeder.pettersen at gmail.com git_url: https://git.bioconductor.org/packages/csdR git_branch: RELEASE_3_18 git_last_commit: 799118b git_last_commit_date: 2023-10-24 11:34:42 -0400 (Tue, 24 Oct 2023)