Package: csdR Version: 1.8.0 Command: /home/biocbuild/bbs-3.18-bioc/R/bin/R CMD INSTALL csdR StartedAt: 2024-04-15 15:35:05 -0400 (Mon, 15 Apr 2024) EndedAt: 2024-04-15 15:35:40 -0400 (Mon, 15 Apr 2024) EllapsedTime: 34.8 seconds RetCode: 0 Status: OK