Package: csdR Version: 1.8.0 Command: F:\biocbuild\bbs-3.18-bioc\R\bin\R.exe CMD check --no-multiarch --install=check:csdR.install-out.txt --library=F:\biocbuild\bbs-3.18-bioc\R\library --no-vignettes --timings csdR_1.8.0.tar.gz StartedAt: 2024-04-15 23:46:42 -0400 (Mon, 15 Apr 2024) EndedAt: 2024-04-15 23:51:27 -0400 (Mon, 15 Apr 2024) EllapsedTime: 284.9 seconds RetCode: 1 Status: ERROR CheckDir: csdR.Rcheck Warnings: NA