Package: ctc Version: 1.76.0 Command: /Library/Frameworks/R.framework/Resources/bin/R CMD build --keep-empty-dirs --no-resave-data ctc StartedAt: 2024-03-03 16:23:59 -0500 (Sun, 03 Mar 2024) EndedAt: 2024-03-03 16:24:08 -0500 (Sun, 03 Mar 2024) EllapsedTime: 9.1 seconds RetCode: 0 Status: OK PackageFile: ctc_1.76.0.tar.gz PackageFileSize: 269.8 KiB