Package: ctc Version: 1.76.0 Command: /Library/Frameworks/R.framework/Resources/bin/R CMD check --install=check:ctc.install-out.txt --library=/Library/Frameworks/R.framework/Resources/library --no-vignettes --timings ctc_1.76.0.tar.gz StartedAt: 2024-03-03 19:57:22 -0500 (Sun, 03 Mar 2024) EndedAt: 2024-03-03 19:57:51 -0500 (Sun, 03 Mar 2024) EllapsedTime: 28.1 seconds RetCode: 0 Status: OK CheckDir: ctc.Rcheck Warnings: 0