Package: ctc Version: 1.76.0 Command: /Library/Frameworks/R.framework/Resources/bin/R CMD INSTALL ctc StartedAt: 2024-03-03 15:03:34 -0500 (Sun, 03 Mar 2024) EndedAt: 2024-03-03 15:03:47 -0500 (Sun, 03 Mar 2024) EllapsedTime: 12.9 seconds RetCode: 0 Status: OK