Package: ctc Version: 1.76.0 Command: /Library/Frameworks/R.framework/Resources/bin/R CMD check --install=check:ctc.install-out.txt --library=/Library/Frameworks/R.framework/Resources/library --no-vignettes --timings ctc_1.76.0.tar.gz StartedAt: 2024-04-16 01:26:00 -0400 (Tue, 16 Apr 2024) EndedAt: 2024-04-16 01:26:40 -0400 (Tue, 16 Apr 2024) EllapsedTime: 40.2 seconds RetCode: 0 Status: OK CheckDir: ctc.Rcheck Warnings: 0