Package: ctc Version: 1.76.0 Command: rm -rf ctc.buildbin-libdir && mkdir ctc.buildbin-libdir && F:\biocbuild\bbs-3.18-bioc\R\bin\R.exe CMD INSTALL --build --library=ctc.buildbin-libdir ctc_1.76.0.tar.gz StartedAt: 2024-04-16 06:52:19 -0400 (Tue, 16 Apr 2024) EndedAt: 2024-04-16 06:52:26 -0400 (Tue, 16 Apr 2024) EllapsedTime: 7.0 seconds RetCode: 0 Status: OK PackageFile: ctc_1.76.0.zip PackageFileSize: 139.6 KiB