Package: customCMPdb Version: 1.12.0 Command: /Library/Frameworks/R.framework/Resources/bin/R CMD build --keep-empty-dirs --no-resave-data customCMPdb StartedAt: 2024-03-03 16:24:37 -0500 (Sun, 03 Mar 2024) EndedAt: 2024-03-03 16:26:48 -0500 (Sun, 03 Mar 2024) EllapsedTime: 130.4 seconds RetCode: 0 Status: OK PackageFile: customCMPdb_1.12.0.tar.gz PackageFileSize: 679.9 KiB