Package: customCMPdb Version: 1.12.0 Command: rm -rf customCMPdb.buildbin-libdir && mkdir customCMPdb.buildbin-libdir && F:\biocbuild\bbs-3.18-bioc\R\bin\R.exe CMD INSTALL --build --library=customCMPdb.buildbin-libdir customCMPdb_1.12.0.tar.gz StartedAt: 2024-04-16 06:52:34 -0400 (Tue, 16 Apr 2024) EndedAt: 2024-04-16 06:52:58 -0400 (Tue, 16 Apr 2024) EllapsedTime: 23.6 seconds RetCode: 0 Status: OK PackageFile: customCMPdb_1.12.0.zip PackageFileSize: 689.8 KiB