Package: customProDB Version: 1.41.0 Command: /Library/Frameworks/R.framework/Resources/bin/R CMD check --install=check:customProDB.install-out.txt --library=/Library/Frameworks/R.framework/Resources/library --no-vignettes --timings customProDB_1.41.0.tar.gz StartedAt: 2023-10-22 19:26:37 -0400 (Sun, 22 Oct 2023) EndedAt: 2023-10-22 19:32:06 -0400 (Sun, 22 Oct 2023) EllapsedTime: 329.4 seconds RetCode: 0 Status: OK CheckDir: customProDB.Rcheck Warnings: 0