Package: customProDB Version: 1.42.1 Command: /Library/Frameworks/R.framework/Resources/bin/R CMD build --keep-empty-dirs --no-resave-data customProDB StartedAt: 2024-04-15 18:01:22 -0400 (Mon, 15 Apr 2024) EndedAt: 2024-04-15 18:03:59 -0400 (Mon, 15 Apr 2024) EllapsedTime: 157.1 seconds RetCode: 0 Status: OK PackageFile: customProDB_1.42.1.tar.gz PackageFileSize: 540.3 KiB