Package: customProDB Version: 1.42.1 Command: /Library/Frameworks/R.framework/Resources/bin/R CMD INSTALL customProDB StartedAt: 2024-04-15 15:48:36 -0400 (Mon, 15 Apr 2024) EndedAt: 2024-04-15 15:50:07 -0400 (Mon, 15 Apr 2024) EllapsedTime: 91.3 seconds RetCode: 0 Status: OK