Package: cycle Version: 1.56.0 Command: /home/biocbuild/bbs-3.18-bioc/R/bin/R CMD INSTALL cycle StartedAt: 2024-04-15 15:10:41 -0400 (Mon, 15 Apr 2024) EndedAt: 2024-04-15 15:10:45 -0400 (Mon, 15 Apr 2024) EllapsedTime: 4.0 seconds RetCode: 0 Status: OK