Package: cytolib Version: 2.14.1 Command: rm -rf cytolib.buildbin-libdir && mkdir cytolib.buildbin-libdir && /Users/biocbuild/BBS/utils/build-universal.sh cytolib_2.14.1.tar.gz /Library/Frameworks/R.framework/Resources/bin/R cytolib.buildbin-libdir StartedAt: 2024-03-04 00:36:51 -0500 (Mon, 04 Mar 2024) EndedAt: 2024-03-04 00:39:52 -0500 (Mon, 04 Mar 2024) EllapsedTime: 180.6 seconds RetCode: 0 Status: OK PackageFile: cytolib_2.14.1.tgz PackageFileSize: 10.01 MiB