Package: cytolib Version: 2.14.1 Command: /Library/Frameworks/R.framework/Resources/bin/R CMD build --keep-empty-dirs --no-resave-data cytolib StartedAt: 2024-03-03 16:25:39 -0500 (Sun, 03 Mar 2024) EndedAt: 2024-03-03 16:28:29 -0500 (Sun, 03 Mar 2024) EllapsedTime: 170.7 seconds RetCode: 0 Status: OK PackageFile: cytolib_2.14.1.tar.gz PackageFileSize: 5.783 MiB