Package: cytolib Version: 2.14.1 Command: /Library/Frameworks/R.framework/Resources/bin/R CMD check --install=check:cytolib.install-out.txt --library=/Library/Frameworks/R.framework/Resources/library --no-vignettes --timings cytolib_2.14.1.tar.gz StartedAt: 2024-03-03 19:59:47 -0500 (Sun, 03 Mar 2024) EndedAt: 2024-03-03 20:00:14 -0500 (Sun, 03 Mar 2024) EllapsedTime: 27.1 seconds RetCode: 0 Status: WARNINGS CheckDir: cytolib.Rcheck Warnings: 2