Package: cytolib Version: 2.14.1 Command: F:\biocbuild\bbs-3.18-bioc\R\bin\R.exe CMD check --no-multiarch --install=check:cytolib.install-out.txt --library=F:\biocbuild\bbs-3.18-bioc\R\library --no-vignettes --timings cytolib_2.14.1.tar.gz StartedAt: 2024-04-15 23:51:37 -0400 (Mon, 15 Apr 2024) EndedAt: 2024-04-15 23:53:25 -0400 (Mon, 15 Apr 2024) EllapsedTime: 108.0 seconds RetCode: 0 Status: WARNINGS CheckDir: cytolib.Rcheck Warnings: 3