Package: cytomapper Version: 1.14.0 Command: /home/biocbuild/R/R-4.3.1/bin/R CMD check --install=check:cytomapper.install-out.txt --library=/home/biocbuild/R/R-4.3.1/site-library --no-vignettes --timings cytomapper_1.14.0.tar.gz StartedAt: 2023-11-02 09:45:23 -0000 (Thu, 02 Nov 2023) EndedAt: 2023-11-02 09:56:14 -0000 (Thu, 02 Nov 2023) EllapsedTime: 650.7 seconds RetCode: 1 Status: ERROR CheckDir: cytomapper.Rcheck Warnings: NA