Package: cytomapper Version: 1.14.0 Command: /home/biocbuild/bbs-3.18-bioc/R/bin/R CMD check --install=check:cytomapper.install-out.txt --library=/home/biocbuild/bbs-3.18-bioc/R/site-library --timings cytomapper_1.14.0.tar.gz StartedAt: 2024-04-15 21:47:37 -0400 (Mon, 15 Apr 2024) EndedAt: 2024-04-15 22:03:19 -0400 (Mon, 15 Apr 2024) EllapsedTime: 941.7 seconds RetCode: 0 Status: OK CheckDir: cytomapper.Rcheck Warnings: 0