Package: dada2 Version: 1.30.0 Command: /home/biocbuild/bbs-3.18-bioc/R/bin/R CMD INSTALL dada2 StartedAt: 2024-04-15 15:21:04 -0400 (Mon, 15 Apr 2024) EndedAt: 2024-04-15 15:22:47 -0400 (Mon, 15 Apr 2024) EllapsedTime: 102.5 seconds RetCode: 0 Status: OK