Package: dagLogo Version: 1.40.0 Command: rm -rf dagLogo.buildbin-libdir && mkdir dagLogo.buildbin-libdir && /Users/biocbuild/BBS/utils/build-universal.sh dagLogo_1.40.0.tar.gz /Library/Frameworks/R.framework/Resources/bin/R dagLogo.buildbin-libdir StartedAt: 2024-03-04 00:37:00 -0500 (Mon, 04 Mar 2024) EndedAt: 2024-03-04 00:38:06 -0500 (Mon, 04 Mar 2024) EllapsedTime: 66.1 seconds RetCode: 0 Status: OK PackageFile: dagLogo_1.40.0.tgz PackageFileSize: 3.203 MiB