git_url: https://git.bioconductor.org/packages/dasper git_branch: devel git_last_commit: 3fa8472 git_last_commit_date: 2023-03-30 12:36:59 -0400 (Thu, 30 Mar 2023) Package: dasper Version: 1.9.1 Maintainer: David Zhang MaintainerEmail: david.zhang.12 at ucl.ac.uk