Package: dcGSA Version: 1.30.0 Maintainer: Jiehuan sun MaintainerEmail: jiehuan.sun at yale.edu git_url: https://git.bioconductor.org/packages/dcGSA git_branch: RELEASE_3_18 git_last_commit: 890b874 git_last_commit_date: 2023-10-24 10:46:39 -0400 (Tue, 24 Oct 2023)