Package: dcGSA Version: 1.30.0 Command: rm -rf dcGSA.buildbin-libdir && mkdir dcGSA.buildbin-libdir && /Users/biocbuild/BBS/utils/build-universal.sh dcGSA_1.30.0.tar.gz /Library/Frameworks/R.framework/Resources/bin/R dcGSA.buildbin-libdir StartedAt: 2024-03-04 00:37:09 -0500 (Mon, 04 Mar 2024) EndedAt: 2024-03-04 00:37:19 -0500 (Mon, 04 Mar 2024) EllapsedTime: 9.3 seconds RetCode: 0 Status: OK PackageFile: dcGSA_1.30.0.tgz PackageFileSize: 51.21 KiB