Package: dcGSA Version: 1.30.0 Command: /Library/Frameworks/R.framework/Resources/bin/R CMD build --keep-empty-dirs --no-resave-data dcGSA StartedAt: 2024-03-03 16:26:48 -0500 (Sun, 03 Mar 2024) EndedAt: 2024-03-03 16:26:49 -0500 (Sun, 03 Mar 2024) EllapsedTime: 1.1 seconds RetCode: 0 Status: OK PackageFile: dcGSA_1.30.0.tar.gz PackageFileSize: 37.43 KiB