Package: dcGSA Version: 1.30.0 Command: rm -rf dcGSA.buildbin-libdir && mkdir dcGSA.buildbin-libdir && F:\biocbuild\bbs-3.18-bioc\R\bin\R.exe CMD INSTALL --build --library=dcGSA.buildbin-libdir dcGSA_1.30.0.tar.gz StartedAt: 2024-04-16 06:53:28 -0400 (Tue, 16 Apr 2024) EndedAt: 2024-04-16 06:53:39 -0400 (Tue, 16 Apr 2024) EllapsedTime: 10.8 seconds RetCode: 0 Status: OK PackageFile: dcGSA_1.30.0.zip PackageFileSize: 54.44 KiB