Package: dcGSA Version: 1.30.0 Command: chmod a+r dcGSA -R && F:\biocbuild\bbs-3.18-bioc\R\bin\R.exe CMD build --keep-empty-dirs --no-resave-data dcGSA StartedAt: 2024-04-15 17:54:05 -0400 (Mon, 15 Apr 2024) EndedAt: 2024-04-15 17:54:07 -0400 (Mon, 15 Apr 2024) EllapsedTime: 1.9 seconds RetCode: 0 Status: OK PackageFile: dcGSA_1.30.0.tar.gz PackageFileSize: 37.43 KiB