Package: dearseq Version: 1.14.0 Command: F:\biocbuild\bbs-3.18-bioc\R\bin\R.exe CMD INSTALL dearseq StartedAt: 2024-04-15 16:33:25 -0400 (Mon, 15 Apr 2024) EndedAt: 2024-04-15 16:33:42 -0400 (Mon, 15 Apr 2024) EllapsedTime: 16.2 seconds RetCode: 0 Status: OK