Package: decompTumor2Sig Version: 2.18.0 Command: rm -rf decompTumor2Sig.buildbin-libdir && mkdir decompTumor2Sig.buildbin-libdir && /Users/biocbuild/BBS/utils/build-universal.sh decompTumor2Sig_2.18.0.tar.gz /Library/Frameworks/R.framework/Resources/bin/R decompTumor2Sig.buildbin-libdir StartedAt: 2024-03-04 00:37:16 -0500 (Mon, 04 Mar 2024) EndedAt: 2024-03-04 00:38:21 -0500 (Mon, 04 Mar 2024) EllapsedTime: 64.6 seconds RetCode: 0 Status: OK PackageFile: decompTumor2Sig_2.18.0.tgz PackageFileSize: 2.686 MiB