Package: decompTumor2Sig Version: 2.18.0 Command: /Library/Frameworks/R.framework/Resources/bin/R CMD build --keep-empty-dirs --no-resave-data decompTumor2Sig StartedAt: 2024-03-03 16:27:11 -0500 (Sun, 03 Mar 2024) EndedAt: 2024-03-03 16:33:40 -0500 (Sun, 03 Mar 2024) EllapsedTime: 388.4 seconds RetCode: 0 Status: OK PackageFile: decompTumor2Sig_2.18.0.tar.gz PackageFileSize: 2.654 MiB