Package: decompTumor2Sig Version: 2.18.0 Command: /Library/Frameworks/R.framework/Resources/bin/R CMD INSTALL decompTumor2Sig StartedAt: 2024-03-03 15:22:28 -0500 (Sun, 03 Mar 2024) EndedAt: 2024-03-03 15:23:29 -0500 (Sun, 03 Mar 2024) EllapsedTime: 60.5 seconds RetCode: 0 Status: OK