Package: decompTumor2Sig Version: 2.18.0 Command: rm -rf decompTumor2Sig.buildbin-libdir && mkdir decompTumor2Sig.buildbin-libdir && /Users/biocbuild/BBS/utils/build-universal.sh decompTumor2Sig_2.18.0.tar.gz /Library/Frameworks/R.framework/Resources/bin/R decompTumor2Sig.buildbin-libdir StartedAt: 2024-04-16 11:26:52 -0400 (Tue, 16 Apr 2024) EndedAt: 2024-04-16 11:29:17 -0400 (Tue, 16 Apr 2024) EllapsedTime: 144.8 seconds RetCode: 0 Status: OK PackageFile: decompTumor2Sig_2.18.0.tgz PackageFileSize: 2.756 MiB