Package: decompTumor2Sig Version: 2.18.0 Command: /Library/Frameworks/R.framework/Resources/bin/R CMD build --keep-empty-dirs --no-resave-data decompTumor2Sig StartedAt: 2024-04-15 18:05:39 -0400 (Mon, 15 Apr 2024) EndedAt: 2024-04-15 18:19:09 -0400 (Mon, 15 Apr 2024) EllapsedTime: 810.3 seconds RetCode: 0 Status: OK PackageFile: decompTumor2Sig_2.18.0.tar.gz PackageFileSize: 2.723 MiB