Package: decompTumor2Sig Version: 2.18.0 Command: /Library/Frameworks/R.framework/Resources/bin/R CMD check --install=check:decompTumor2Sig.install-out.txt --library=/Library/Frameworks/R.framework/Resources/library --no-vignettes --timings decompTumor2Sig_2.18.0.tar.gz StartedAt: 2024-04-16 01:40:17 -0400 (Tue, 16 Apr 2024) EndedAt: 2024-04-16 01:55:05 -0400 (Tue, 16 Apr 2024) EllapsedTime: 887.9 seconds RetCode: 0 Status: OK CheckDir: decompTumor2Sig.Rcheck Warnings: 0