Package: decompTumor2Sig Version: 2.18.0 Command: /Library/Frameworks/R.framework/Resources/bin/R CMD INSTALL decompTumor2Sig StartedAt: 2024-04-15 16:00:19 -0400 (Mon, 15 Apr 2024) EndedAt: 2024-04-15 16:01:49 -0400 (Mon, 15 Apr 2024) EllapsedTime: 90.7 seconds RetCode: 0 Status: OK