Package: decompTumor2Sig Version: 2.18.0 Command: /home/biocbuild/bbs-3.18-bioc/R/bin/R CMD INSTALL decompTumor2Sig StartedAt: 2024-04-15 15:32:29 -0400 (Mon, 15 Apr 2024) EndedAt: 2024-04-15 15:33:16 -0400 (Mon, 15 Apr 2024) EllapsedTime: 47.6 seconds RetCode: 0 Status: OK