Package: decontam Version: 1.22.0 Command: rm -rf decontam.buildbin-libdir && mkdir decontam.buildbin-libdir && /Users/biocbuild/BBS/utils/build-universal.sh decontam_1.22.0.tar.gz /Library/Frameworks/R.framework/Resources/bin/R decontam.buildbin-libdir StartedAt: 2024-04-16 11:27:01 -0400 (Tue, 16 Apr 2024) EndedAt: 2024-04-16 11:27:16 -0400 (Tue, 16 Apr 2024) EllapsedTime: 15.6 seconds RetCode: 0 Status: OK PackageFile: decontam_1.22.0.tgz PackageFileSize: 758.8 KiB