Package: decontam Version: 1.22.0 Command: rm -rf decontam.buildbin-libdir && mkdir decontam.buildbin-libdir && F:\biocbuild\bbs-3.18-bioc\R\bin\R.exe CMD INSTALL --build --library=decontam.buildbin-libdir decontam_1.22.0.tar.gz StartedAt: 2024-04-16 06:53:48 -0400 (Tue, 16 Apr 2024) EndedAt: 2024-04-16 06:53:55 -0400 (Tue, 16 Apr 2024) EllapsedTime: 7.1 seconds RetCode: 0 Status: OK PackageFile: decontam_1.22.0.zip PackageFileSize: 503 KiB