Package: deconvR Version: 1.8.0 Command: /home/biocbuild/R/R-4.3.1/bin/R CMD INSTALL deconvR StartedAt: 2023-11-01 20:55:23 -0000 (Wed, 01 Nov 2023) EndedAt: 2023-11-01 20:56:33 -0000 (Wed, 01 Nov 2023) EllapsedTime: 69.9 seconds RetCode: 0 Status: OK