Package: deconvR Version: 1.8.0 Command: rm -rf deconvR.buildbin-libdir && mkdir deconvR.buildbin-libdir && /Users/biocbuild/BBS/utils/build-universal.sh deconvR_1.8.0.tar.gz /Library/Frameworks/R.framework/Resources/bin/R deconvR.buildbin-libdir StartedAt: 2024-03-04 00:37:19 -0500 (Mon, 04 Mar 2024) EndedAt: 2024-03-04 00:38:31 -0500 (Mon, 04 Mar 2024) EllapsedTime: 72.6 seconds RetCode: 0 Status: OK PackageFile: deconvR_1.8.0.tgz PackageFileSize: 3.812 MiB