Package: deconvR Version: 1.8.0 Command: /home/biocbuild/bbs-3.18-bioc/R/bin/R CMD build --keep-empty-dirs --no-resave-data deconvR StartedAt: 2024-04-15 16:44:26 -0400 (Mon, 15 Apr 2024) EndedAt: 2024-04-15 16:46:15 -0400 (Mon, 15 Apr 2024) EllapsedTime: 109.4 seconds RetCode: 0 Status: OK PackageFile: deconvR_1.8.0.tar.gz PackageFileSize: 3.789 MiB