Package: decoupleR Version: 2.8.2 Command: /Library/Frameworks/R.framework/Resources/bin/R CMD check --install=check:decoupleR.install-out.txt --library=/Library/Frameworks/R.framework/Resources/library --no-vignettes --timings decoupleR_2.8.2.tar.gz StartedAt: 2024-03-03 20:04:27 -0500 (Sun, 03 Mar 2024) EndedAt: 2024-03-03 20:32:23 -0500 (Sun, 03 Mar 2024) EllapsedTime: 1676.2 seconds RetCode: 1 Status: ERROR CheckDir: decoupleR.Rcheck Warnings: NA