Package: decoupleR Version: 2.8.2 Command: /home/biocbuild/bbs-3.18-bioc/R/bin/R CMD build --keep-empty-dirs --no-resave-data decoupleR StartedAt: 2024-04-15 16:44:27 -0400 (Mon, 15 Apr 2024) EndedAt: 2024-04-15 16:48:44 -0400 (Mon, 15 Apr 2024) EllapsedTime: 256.2 seconds RetCode: 0 Status: OK PackageFile: decoupleR_2.8.2.tar.gz PackageFileSize: 1.892 MiB