Package: decoupleR Version: 2.8.2 Command: /home/biocbuild/bbs-3.18-bioc/R/bin/R CMD check --install=check:decoupleR.install-out.txt --library=/home/biocbuild/bbs-3.18-bioc/R/site-library --timings decoupleR_2.8.2.tar.gz StartedAt: 2024-04-15 21:53:44 -0400 (Mon, 15 Apr 2024) EndedAt: 2024-04-15 22:33:45 -0400 (Mon, 15 Apr 2024) EllapsedTime: 2400.6 seconds RetCode: None Status: TIMEOUT CheckDir: decoupleR.Rcheck Warnings: NA