############################################################################## ############################################################################## ### ### Running command: ### ### rm -rf decoupleR.buildbin-libdir && mkdir decoupleR.buildbin-libdir && F:\biocbuild\bbs-3.18-bioc\R\bin\R.exe CMD INSTALL --build --library=decoupleR.buildbin-libdir decoupleR_2.8.2.tar.gz ### ############################################################################## ############################################################################## * installing *source* package 'decoupleR' ... ** using staged installation ** R ** inst ** byte-compile and prepare package for lazy loading ** help *** installing help indices *** copying figures ** building package indices ** installing vignettes Warning in file(con, "w") : cannot open file 'F:/biocbuild/bbs-3.18-bioc/meat/decoupleR.buildbin-libdir/00LOCK-decoupleR/00new/decoupleR/doc/index.html': No such file or directory Error in file(con, "w") : cannot open the connection ERROR: installing vignettes failed * removing 'F:/biocbuild/bbs-3.18-bioc/meat/decoupleR.buildbin-libdir/decoupleR'