Package: decoupleR Version: 2.8.2 Command: chmod a+r decoupleR -R && F:\biocbuild\bbs-3.18-bioc\R\bin\R.exe CMD build --keep-empty-dirs --no-resave-data decoupleR StartedAt: 2024-04-15 17:55:36 -0400 (Mon, 15 Apr 2024) EndedAt: 2024-04-15 18:01:22 -0400 (Mon, 15 Apr 2024) EllapsedTime: 345.5 seconds RetCode: 0 Status: OK PackageFile: decoupleR_2.8.2.tar.gz PackageFileSize: 1.892 MiB