Package: demuxmix Version: 1.4.0 Command: /Library/Frameworks/R.framework/Resources/bin/R CMD build --keep-empty-dirs --no-resave-data demuxmix StartedAt: 2024-03-03 16:29:01 -0500 (Sun, 03 Mar 2024) EndedAt: 2024-03-03 16:29:52 -0500 (Sun, 03 Mar 2024) EllapsedTime: 51.1 seconds RetCode: 0 Status: OK PackageFile: demuxmix_1.4.0.tar.gz PackageFileSize: 1.306 MiB