Package: derfinder Version: 1.36.0 Maintainer: Leonardo Collado-Torres MaintainerEmail: lcolladotor at gmail.com git_url: https://git.bioconductor.org/packages/derfinder git_branch: RELEASE_3_18 git_last_commit: 9bc4cd5 git_last_commit_date: 2023-10-24 10:38:56 -0400 (Tue, 24 Oct 2023)